BEGIN:VCALENDAR
VERSION:2.0
METHOD:PUBLISH
CALSCALE:GREGORIAN
PRODID:-//WordPress - MECv7.32.0//EN
X-ORIGINAL-URL:https://kristycoromandel.com/
X-WR-CALNAME:Kristy Coromandel
X-WR-CALDESC:Website Design, Business Systems &amp; Creative Education for Women Entrepreneurs
X-WR-TIMEZONE:Australia/Brisbane
BEGIN:VTIMEZONE
TZID:Australia/Brisbane
X-LIC-LOCATION:Australia/Brisbane
BEGIN:STANDARD
TZOFFSETFROM:+1000
TZOFFSETTO:+1000
TZNAME:AEST
DTSTART:20260424T100246
END:STANDARD
END:VTIMEZONE
REFRESH-INTERVAL;VALUE=DURATION:PT1H
X-PUBLISHED-TTL:PT1H
X-MS-OLK-FORCEINSPECTOROPEN:TRUE
BEGIN:VEVENT
CLASS:PUBLIC
UID:MEC-df0ec74ed0bf23e091847f07c1d2c483@kristycoromandel.com
DTSTART;TZID=Australia/Brisbane:20260516T110000
DTEND;TZID=Australia/Brisbane:20260516T130000
DTSTAMP:20251216T220203Z
RRULE:FREQ=MONTHLY;UNTIL=20261130T030000Z;WKST=MO;BYDAY=3SA
CREATED:20251216
LAST-MODIFIED:20251219
PRIORITY:5
SEQUENCE:6
TRANSP:OPAQUE
SUMMARY:Card Making Workshop Emerald
DESCRIPTION:Looking for a relaxed, creative way to enjoy card making — without the pressure of planning or prep?This in-person Card Making Workshop is designed for all skill levels, from complete beginners to experienced crafters.\nEverything is ready for you when you arrive. A selection of cardmaking kits will be available on the day, and you’ll choose the one that appeals to you most. Everyone may be creating something different, which makes the workshop fun, flexible, and supportive.\nWhat to Expect\n\n\nChoose a cardmaking kit from the available selection on the day\n\n\nCreate beautiful handmade cards at your own pace\n\n\nLearn helpful tips for assembling, finishing, and personalising your projects\n\n\nEnjoy a friendly, encouraging workshop environment with guidance and support throughout\n\n\nThis session focuses on building confidence, enjoying the creative process, and leaving with finished cards you’ll be proud to give.\nWhat’s Included\n\n\nOne cardmaking kit (selected on the day)\n\n\nUse of basic tools during the workshop\n\n\nGuided instruction and individual support\n\n\nInspiration from finished samples\n\n\nWhat to Bring\n\n\nNothing is required — everything you need is provided\n\n\nOptional: Feel free to bring your own favourite adhesive if you prefer using one you’re familiar with\n\n\nWho This Workshop Is For\n\n\nBeginners wanting a gentle introduction to card making\n\n\nCrafters who enjoy relaxed, social workshops\n\n\nAnyone looking for a creative break and a confidence boost\n\n\nA great stand-alone session or a warm-up before the afternoon scrapbooking workshop\n \n\n
URL:https://kristycoromandel.com/events/card-making-workshop-emerald/
ORGANIZER;CN=Kristy Coromandel:MAILTO:kristy@kristycoromandel.com
CATEGORIES:Cardmaking
LOCATION:45 Borilla Street, EMERALD
ATTACH;FMTTYPE=image/jpeg:https://kristycoromandel.com/wp-content/uploads/2025/12/kits-collection-1.jpg
END:VEVENT
BEGIN:VEVENT
CLASS:PUBLIC
UID:MEC-ba6a2bb1c8d6ff0d8e101947591c489d@kristycoromandel.com
DTSTART;TZID=Australia/Brisbane:20260516T130000
DTEND;TZID=Australia/Brisbane:20260516T160000
DTSTAMP:20251121T224605Z
RRULE:FREQ=MONTHLY;UNTIL=20261130T060000Z;WKST=MO;BYDAY=3SA
CREATED:20251121
LAST-MODIFIED:20251219
PRIORITY:5
SEQUENCE:17
TRANSP:OPAQUE
SUMMARY:Scrapbooking Workshop Emerald | Memories in the Making
DESCRIPTION:Step into a relaxing and creative space with this Scrapbooking Workshop in Emerald—perfect for beginners and returning memory keepers alike. You’ll learn simple, beautiful techniques for documenting your stories while enjoying a fun and welcoming atmosphere.\nWhether you’re brand new or just haven’t crafted in a while, this class gives you everything you need to feel confident and inspired.\nWhat’s Included\nA Complete KitYou’ll receive all the supplies and step-by-step instructions to create six gorgeous layouts (three double-page spreads).\nExpert GuidanceEnjoy hands-on teaching and personalised support to help your scrapbook pages come together with ease.\nExclusive Tool UseUse my tools during the workshop so you can try new techniques without needing to bring anything extra.\nCan’t Attend In Person?\nYou won’t miss out! Your kit will include clear photos and detailed instructions so you can complete the layouts from home at your own pace.\nWhy You’ll Love This Workshop\n\n\nIdeal for beginners and experienced scrapbookers\n\n\nCreate layouts that reflect your unique style—clean and simple or detailed and decorative\n\n\nLeave with finished pages you’ll treasure for years\n\n\nEnjoy a calm, creative afternoon with a friendly group\n\n\nA wonderful activity to do with a friend or family member\n\n\nWhat to Bring\n\n\nPaper trimmer\n\n\nAdhesive\n\n\nRuler\n\n\nPencil\n\n\nCome along and enjoy a few hours of creativity, connection, and the joy of preserving your memories in a meaningful way.\n
URL:https://kristycoromandel.com/events/scrapbooking-workshop-emerald/
ORGANIZER;CN=Kristy Coromandel:MAILTO:kristy@kristycoromandel.com
CATEGORIES:Scrapbooking
LOCATION:45 Borilla Street, EMERALD
ATTACH;FMTTYPE=image/jpeg:https://kristycoromandel.com/wp-content/uploads/2025/12/scrapbooking-1.jpg
END:VEVENT
BEGIN:VEVENT
CLASS:PUBLIC
UID:MEC-af1f6658a546ce4e40e87c489224e23e@kristycoromandel.com
DTSTART;TZID=Australia/Brisbane:20260513T193000
DTEND;TZID=Australia/Brisbane:20260513T203000
DTSTAMP:20251219T072445Z
RRULE:FREQ=MONTHLY;UNTIL=20261130T103000Z;WKST=MO;BYDAY=2WE
CREATED:20251219
LAST-MODIFIED:20251219
PRIORITY:5
SEQUENCE:6
TRANSP:OPAQUE
SUMMARY:TEAM: Craft & Connect
DESCRIPTION:Craft & Connect – A Monthly Creative Hangout! ✨\nJoin us for Craft & Connect, our monthly creative hangout where we gather as a team to craft, chat, and have fun together! Whether you’re working on your latest project, looking for inspiration, or just want to enjoy some creative company, this is the perfect time to unwind and connect with fellow Art of Simple team members.\n🎨 What to Expect:\n✅ A fun, relaxed crafting session—bring whatever you’re working on!\n✅ A creative challenge to spark inspiration (optional, but fun!)\n✅ Friendly chats, sharing tips, and encouragement\n✅ A chance to ask questions, swap ideas, and simply enjoy crafting together\n📍 Where: on Zoom (Zoom link available via FB Group & Email)\n💡 Who’s It For? Every team member—whether you craft for fun or are curious about building your Stampin’ Up! journey!\nLet’s make time to create, connect, and celebrate our love of stamping together! I can’t wait to see you there. 💕\nNot yet a member of my team – Learn more and join me HERE  ( https://team.kristycoromandel.com/ )\n
URL:https://kristycoromandel.com/events/team-craft-connect/
CATEGORIES:Team Events
LOCATION:Zoom
ATTACH;FMTTYPE=image/jpeg:https://kristycoromandel.com/wp-content/uploads/2025/12/Team_-Craft-Connect.jpg
END:VEVENT
BEGIN:VEVENT
CLASS:PUBLIC
UID:MEC-dcc23f1518df8a7fa13f0b9a67b4ec7f@kristycoromandel.com
DTSTART;TZID=Australia/Brisbane:20260426T150000
DTEND;TZID=Australia/Brisbane:20260426T160000
DTSTAMP:20251222T140757Z
RRULE:FREQ=MONTHLY;UNTIL=20261231T060000Z;WKST=MO;BYDAY=-1SU
CREATED:20251222
LAST-MODIFIED:20251222
PRIORITY:5
SEQUENCE:1
TRANSP:OPAQUE
SUMMARY:TEAM:  Monthly Reset & Reflection
DESCRIPTION:A behind-the-scenes team experience\nEach month, our team comes together for a calm, supportive reset designed to help creatives reflect on where they’ve been and gently plan what’s ahead — without pressure, hustle, or overwhelm.\nThis session is a mix of reflection, clarity, and encouragement. It’s where ideas are gathered, priorities are simplified, and confidence is rebuilt for the month ahead. Some team members use this time to plan creative projects, others to organise their sharing or business goals — and many simply come along to reset their mindset and feel supported.\nThere’s no requirement to have big goals or detailed plans. This space is about meeting yourself where you are, choosing what fits your life right now, and moving forward with intention.\nThese sessions are part of how our team stays connected, grounded, and creatively energised — and they’re one of the many ways we support each other beyond just crafting.\nLearn more about joining my team at https://team.kristycoromandel.com/\n
URL:https://kristycoromandel.com/events/team-monthly-reset-reflection/
ORGANIZER;CN=Kristy Coromandel:MAILTO:kristy@kristycoromandel.com
CATEGORIES:Team Events
LOCATION:Zoom
ATTACH;FMTTYPE=image/jpeg:https://kristycoromandel.com/wp-content/uploads/2025/12/Monthly-Reset-Reflection.jpg
END:VEVENT
BEGIN:VEVENT
CLASS:PUBLIC
UID:MEC-deea120ee8b579bd57679ec893e36fa3@kristycoromandel.com
DTSTART;TZID=Australia/Brisbane:20260430T060000
DTEND;TZID=Australia/Brisbane:20260502T130000
DTSTAMP:20260322T112810Z
RRULE:FREQ=DAILY;UNTIL=20260502T030000Z
CREATED:20260322
LAST-MODIFIED:20260322
PRIORITY:5
SEQUENCE:7
TRANSP:OPAQUE
SUMMARY:Virtual Album Retreat
DESCRIPTION:Have you ever wanted to create a beautiful scrapbook… but didn’t know where to start?\nThe Virtual Album Retreat is a relaxed, step-by-step creative experience designed to help you turn your photos into a meaningful keepsake—without the overwhelm.\nOver this special 3-day online event, you’ll be guided through creating a 10-page scrapbook album, with simple instructions, gorgeous materials, and plenty of creative inspiration along the way.\nWhether you’re completely new to scrapbooking or just want a fun project to dive into, this is your chance to slow down, get creative, and actually finish something you’ll love.\nWhat You’ll Experience\n\nGuided step-by-step album creation\nA complete kit with coordinated papers, embellishments, and supplies\nA supportive, creative environment (you’re not doing this alone!)\nAccess to a private Facebook group for connection and inspiration\nReplays available so you can craft at your own pace\n\nEvent Details\n\nDates: 30 April – 2 May 2026\nTime: Approx. 6:00am – 1:00pm (AEST) (replays available if times don’t suit)\nFormat: Live online event via private Facebook group\n\nYour Retreat Kit Includes\nYour kit is packed with everything you need to create your album, including:\n\nPre-designed scrapbook pages\nDesigner Series Paper\nPrinted photos and embellishments\nMemory Protectors\nExclusive stamp set\nCoordinated accessories\n\n(You’ll just need a few basic tools and adhesives from your stash.)\n\n\n\n\n\n\n\n\n\n\n\n\n\n\n\nTo have the best experience during the Virtual Album  Retreat, you will need the following supplies on hand: Download HERE ( https://su-media.s3.amazonaws.com/media/Promotions/2026/Virtual_Album_Retreat/April/2026_VIRTUAL_ALBUM_RETREAT_SUPPLIES_SP.pdf )\nWhy You’ll Love This\nThis isn’t just about scrapbooking—it’s about:\n\nFinally using your photos instead of leaving them on your phone\nCreating something meaningful for your family\nBuilding your creative confidence in a simple, guided way\nTaking time for yourself (without guilt )\n\nHow to Join\nTo participate, you’ll simply purchase the Virtual Album Retreat Kit, which gives you access to the full event experience.\nSpots are limited based on kit availability, so be sure to secure yours early.\n\n \n\n\n\n\n\n\n\n\n\n\n\n\n\n\n\n\n\n \n\n\n\n\n\n
URL:https://kristycoromandel.com/events/virtual-album-retreat-2/
CATEGORIES:Stampin’ Up! Event
LOCATION:Facebook
ATTACH;FMTTYPE=image/webp:https://kristycoromandel.com/wp-content/uploads/2026/03/Virtual-Album-Retreat.webp
END:VEVENT
BEGIN:VEVENT
CLASS:PUBLIC
UID:MEC-2ae2f66d8c3320fb80dceb024ab9c097@kristycoromandel.com
DTSTART;TZID=Australia/Brisbane:20260528T183000
DTEND;TZID=Australia/Brisbane:20260528T193000
DTSTAMP:20260203T212135Z
CREATED:20260203
LAST-MODIFIED:20260203
PRIORITY:5
SEQUENCE:1
TRANSP:OPAQUE
SUMMARY:PCA: Skill Builder Deep Dive
DESCRIPTION:This session revisits a previous core skill and explores simple ways to strengthen and build on what you already know.\nWe’ll look at:\n\n\ncommon challenges members experience\n\n\nsmall tweaks that make a big difference\n\n\nhow to apply the skill across different projects\n\n\nThis is a great session if you’ve been practising but want to feel more confident and consistent.\nWho it’s for: PCA membersFormat: Guided Zoom session with discussionReplay: Available inside PCA\nNot yet a member of Paper Crafter’s Academy? Learn more and join here.\n
URL:https://kristycoromandel.com/events/pca-skill-builder-deep-dive/
CATEGORIES:Paper Crafters Academy
ATTACH;FMTTYPE=image/jpeg:https://kristycoromandel.com/wp-content/uploads/2026/02/PCA.jpg
END:VEVENT
END:VCALENDAR
